BEGIN:VCALENDAR
VERSION:2.0
PRODID:-//hacksw/handcal//NONSGML v1.0//EN
BEGIN:VEVENT
DTSTART:20260506T080000Z
DTEND:20260506T160000Z
LOCATION:Quartier Jeunes  \n4 place du Louvre \n75001  Paris
ORGANIZER;CN=Daphné Caby-baer:MAILTO:dcabybaer@parisnanterre.fr
SUMMARY:Forum de l’alternance CIDJ
DESCRIPTION:\na { text-decoration: none; color: #464feb; }\ntr th, tr td { border: 1px solid #e6e6e6; }\ntr th { background-color: #f5f5f5; }\na { text-decoration: none; color: #464feb; }\ntr th, tr td { border: ...
URL:https://www.parisnanterre-alumni.fr/fr/event/forum-de-l-alternance-cidj/2026/05/06/100
BEGIN:VALARM
TRIGGER:-P0DT1H0M0S
ACTION:DISPLAY
END:VALARM
END:VEVENT
END:VCALENDAR