BEGIN:VCALENDAR
VERSION:2.0
PRODID:-//hacksw/handcal//NONSGML v1.0//EN
BEGIN:VEVENT
DTSTART:20260519T163000Z
DTEND:20260519T203000Z
LOCATION:La Seine Musicale  \n1 Île Seguin \n92100  Boulogne-Billancourt
ORGANIZER;CN=Daphné Caby-baer:MAILTO:dcabybaer@parisnanterre.fr
SUMMARY:Grande Soirée Finale Made in 92 - Remise de prix Entrepreneuriat
DESCRIPTION:\na {\ntext-decoration: none;\ncolor: #464feb;\n}\ntr th,\ntr td {\nborder: 1px solid #e6e6e6;\n}\ntr th {\nbackground-color: #f5f5f5;\n}\na {\ntext-decoration: none;\ncolor: #464feb;\n}\ntr th,\ntr...
URL:https://www.parisnanterre-alumni.fr/fr/event/grande-soiree-finale-made-in-92-remise-de-prix-entrepreneuriat/2026/05/19/102
BEGIN:VALARM
TRIGGER:-P0DT1H0M0S
ACTION:DISPLAY
END:VALARM
END:VEVENT
END:VCALENDAR