BEGIN:VCALENDAR
VERSION:2.0
PRODID:-//hacksw/handcal//NONSGML v1.0//EN
BEGIN:VEVENT
DTSTART:20260602T063000Z
DTEND:20260602T113000Z
LOCATION:Bâtiment Max Weber — Amphithéâtre rez-de-chaussée  \n200, avenue de la République \n92000 Nanterre
ORGANIZER;CN=Daphné Caby-baer:MAILTO:dcabybaer@parisnanterre.fr
SUMMARY:Les Rencontres de la Fondation Université Paris Nanterre
DESCRIPTION:\na {\ntext-decoration: none;\ncolor: #464feb;\n}\ntr th,\ntr td {\nborder: 1px solid #e6e6e6;\n}\ntr th {\nbackground-color: #f5f5f5;\n}\na {\ntext-decoration: none;\ncolor: #464feb;\n}\ntr th,\ntr...
URL:https://www.parisnanterre-alumni.fr/fr/event/les-rencontres-de-la-fondation-universite-paris-nanterre/2026/06/02/104
BEGIN:VALARM
TRIGGER:-P0DT1H0M0S
ACTION:DISPLAY
END:VALARM
END:VEVENT
END:VCALENDAR